BEGIN:VCALENDAR
VERSION:2.0
PRODID:-//Plone.org//NONSGML plone.app.event//EN
X-WR-TIMEZONE:Brazil/East
BEGIN:VEVENT
SUMMARY:Sessão Solene
DTSTART;VALUE=DATE:20230510
DTEND;VALUE=DATE:20230511
DTSTAMP;VALUE=DATE-TIME:20260421T091736Z
UID:a78825358d9941a6b8c58c64643a370a@www.aracaju.se.leg.br
CREATED;VALUE=DATE-TIME:20230505T142657Z
LAST-MODIFIED;VALUE=DATE-TIME:20230505T142713Z
URL:https://www.aracaju.se.leg.br/institucional/eventos/sessao-solene-66
END:VEVENT
END:VCALENDAR
