BEGIN:VCALENDAR
VERSION:2.0
PRODID:-//Plone.org//NONSGML plone.app.event//EN
X-WR-TIMEZONE:Brazil/East
BEGIN:VEVENT
SUMMARY:Sessão Solene
DTSTART;VALUE=DATE:20221020
DTEND;VALUE=DATE:20221021
DTSTAMP;VALUE=DATE-TIME:20260421T055215Z
UID:9bfc1b209a644c8ca16d0f4f28f5885c@www.aracaju.se.leg.br
CREATED;VALUE=DATE-TIME:20221018T120335Z
LAST-MODIFIED;VALUE=DATE-TIME:20221018T120340Z
URL:https://www.aracaju.se.leg.br/institucional/eventos/sessao-solene-52
END:VEVENT
END:VCALENDAR
