BEGIN:VCALENDAR
VERSION:2.0
PRODID:-//Plone.org//NONSGML plone.app.event//EN
X-WR-TIMEZONE:Brazil/East
BEGIN:VEVENT
SUMMARY:Sessão Solene
DTSTART;VALUE=DATE:20220817
DTEND;VALUE=DATE:20220818
DTSTAMP;VALUE=DATE-TIME:20260421T073016Z
UID:44b604d5b9a0484ca162927b99a9c168@www.aracaju.se.leg.br
CREATED;VALUE=DATE-TIME:20220816T144509Z
LAST-MODIFIED;VALUE=DATE-TIME:20220816T144519Z
URL:https://www.aracaju.se.leg.br/institucional/eventos/sessao-solene-49
END:VEVENT
END:VCALENDAR
