BEGIN:VCALENDAR
VERSION:2.0
PRODID:-//Plone.org//NONSGML plone.app.event//EN
X-WR-TIMEZONE:Brazil/East
BEGIN:VEVENT
SUMMARY:Sessão Solene
DTSTART;VALUE=DATE:20260428
DTEND;VALUE=DATE:20260429
DTSTAMP;VALUE=DATE-TIME:20260423T172830Z
UID:746f7d062db04515809c14ae7137e750@www.aracaju.se.leg.br
CREATED;VALUE=DATE-TIME:20260423T155104Z
LAST-MODIFIED;VALUE=DATE-TIME:20260423T155115Z
URL:https://www.aracaju.se.leg.br/institucional/eventos/event.2026-04-23.4
 404791169
END:VEVENT
END:VCALENDAR
