BEGIN:VCALENDAR
VERSION:2.0
PRODID:-//Plone.org//NONSGML plone.app.event//EN
X-WR-TIMEZONE:Brazil/East
BEGIN:VEVENT
SUMMARY:Audiência Pública
DTSTART;VALUE=DATE:20260309
DTEND;VALUE=DATE:20260310
DTSTAMP;VALUE=DATE-TIME:20260419T225637Z
UID:0edbf3a78ac740749f496abdbd35375b@www.aracaju.se.leg.br
CREATED;VALUE=DATE-TIME:20260305T113831Z
LAST-MODIFIED;VALUE=DATE-TIME:20260305T113839Z
URL:https://www.aracaju.se.leg.br/institucional/eventos/event.2026-03-05.6
 808209350
END:VEVENT
END:VCALENDAR
