BEGIN:VCALENDAR
VERSION:2.0
PRODID:-//Plone.org//NONSGML plone.app.event//EN
X-WR-TIMEZONE:Brazil/East
BEGIN:VEVENT
SUMMARY:Audiência Pública
DTSTART;VALUE=DATE:20230320
DTEND;VALUE=DATE:20230321
DTSTAMP;VALUE=DATE-TIME:20260421T075703Z
UID:0c93a0a501cc461c993bfff4dd2d1d6a@www.aracaju.se.leg.br
CREATED;VALUE=DATE-TIME:20230315T211026Z
LAST-MODIFIED;VALUE=DATE-TIME:20230315T211035Z
URL:https://www.aracaju.se.leg.br/institucional/eventos/audiencia-publica-
 37
END:VEVENT
END:VCALENDAR
